BEGIN:VCALENDAR
VERSION:2.0
PRODID:-//ChamberMaster//Event Calendar 2.0//EN
METHOD:PUBLISH
X-PUBLISHED-TTL:P3D
REFRESH-INTERVAL:P3D
CALSCALE:GREGORIAN
BEGIN:VEVENT
DTSTART:20201024T150000Z
DTEND:20201024T190000Z
X-MICROSOFT-CDO-ALLDAYEVENT:FALSE
SUMMARY:Community Shred & Drug Round Up Sponsored by RSVP
DESCRIPTION:RSVP is sponsoring their annual Community Shred & Drug Round Up Event for Make a Difference Day.\n\n\n\nThis year\, a Shred It shredding truck & Drug Enforcement Unit (DEU) agents will be in the parking lot of the Etowah County Courthouse to shred material & to collect your old or unused medicines.\n\n\n\nSupported by the Etowah County Commission\, Family Savings Federal Credit Union\, Etowah County Sheriff's Dept. & Drug Enforcement Unit\, and the RSVP Advisory Council.
X-ALT-DESC;FMTTYPE=text/html:<span style="font-size:16px\;"><span style="font-family:arial\;">RSVP is sponsoring their annual Community Shred &amp\; Drug Round Up Event for Make a Difference Day.<br />\n<br />\nThis year\, a Shred It shredding truck &amp\; Drug Enforcement Unit (DEU) agents will be in the parking lot of the Etowah County Courthouse to shred material &amp\; to collect your old or unused medicines.<br />\n<br />\n<em><strong>Supported by the Etowah County Commission\, Family Savings Federal Credit Union\, Etowah County Sheriff&rsquo\;s Dept. &amp\; Drug Enforcement Unit\, and the RSVP Advisory Council.</strong></em></span></span>
LOCATION:Side Parking Lot of Etowah County Courthouse
UID:e.1432.403444
SEQUENCE:3
DTSTAMP:20260421T161222Z
URL:http://business.etowahchamber.org/events/details/community-shred-drug-round-up-sponsored-by-rsvp-403444
END:VEVENT

END:VCALENDAR
