BEGIN:VCALENDAR
VERSION:2.0
PRODID:-//ChamberMaster//Event Calendar 2.0//EN
METHOD:PUBLISH
X-PUBLISHED-TTL:P3D
REFRESH-INTERVAL:P3D
CALSCALE:GREGORIAN
BEGIN:VEVENT
DTSTART:20140123T143000Z
DTEND:20140123T173000Z
X-MICROSOFT-CDO-ALLDAYEVENT:FALSE
SUMMARY:Connecting Our Communities
DESCRIPTION:A Regional Economic Development Forum
X-ALT-DESC;FMTTYPE=text/html:A Regional Economic Development Forum&nbsp\;&nbsp\;&nbsp\;&nbsp\;&nbsp\;&nbsp\;&nbsp\;&nbsp\;
LOCATION:Oxford Civic Center 401 McCullars Lane\, Oxford\, Al 36203
UID:e.1432.384325
SEQUENCE:3
DTSTAMP:20260423T012530Z
URL:http://business.etowahchamber.org/events/details/connecting-our-communities-01-23-2014-384325
END:VEVENT

END:VCALENDAR
