BEGIN:VCALENDAR
VERSION:2.0
PRODID:-//ChamberMaster//Event Calendar 2.0//EN
METHOD:PUBLISH
X-PUBLISHED-TTL:P3D
REFRESH-INTERVAL:P3D
CALSCALE:GREGORIAN
BEGIN:VEVENT
DTSTART:20130223T160000Z
DTEND:20130224T180000Z
X-MICROSOFT-CDO-ALLDAYEVENT:FALSE
SUMMARY:Cookies for the Troops
DESCRIPTION:Please help support our troops that serve us every day!   Join us at the Gadsden Mall all day on Saturday\, February 23rd.  Please buy a box for your self and donate a box that will be shipped overseas to a deserving soldier!    Sponsored by Clokey Realty.
X-ALT-DESC;FMTTYPE=text/html:<p>\n	<span style="font-size: 14px"><span style="color: #006400"><span style="font-family: arial">Please help support our troops that serve us every day!&nbsp\;&nbsp\;&nbsp\;<strong>Join us</strong> at the Gadsden Mall all day on Saturday\, February 23rd.&nbsp\; Please buy a box for your self and donate a box that will be shipped overseas to a deserving soldier!&nbsp\;&nbsp\;&nbsp\;<span style="background-color: #ffffff"> </span></span></span><strong><span style="color: #000080"><span style="font-family: arial"><span style="background-color: #ffffff">Sponsored by Clokey Realty</span></span><span style="font-family: arial"><span style="background-color: #ffffff">.</span></span></span></strong></span></p>\n
LOCATION:Gadsden Mall
UID:e.1432.383074
SEQUENCE:3
DTSTAMP:20260423T060611Z
URL:http://business.etowahchamber.org/events/details/cookies-for-the-troops-02-23-2013-383074
END:VEVENT

END:VCALENDAR
