BEGIN:VCALENDAR
VERSION:2.0
PRODID:-//ChamberMaster//Event Calendar 2.0//EN
METHOD:PUBLISH
X-PUBLISHED-TTL:P3D
REFRESH-INTERVAL:P3D
CALSCALE:GREGORIAN
BEGIN:VEVENT
DTSTART:20190413T140000Z
DTEND:20190413T210000Z
X-MICROSOFT-CDO-ALLDAYEVENT:FALSE
SUMMARY:Coosa Valley Annual Model Railroad Show
DESCRIPTION:Coosa Valley Model Railroad Association annual model railroad show. Many dealers and club layouts on display.
X-ALT-DESC;FMTTYPE=text/html:<span style="font-size:16px\;"><span style="font-family:arial\;"><span style="color: rgb(29\, 33\, 41)\; white-space: pre-wrap\;">Coosa Valley Model Railroad Association annual model railroad show. Many dealers and club layouts on display.</span></span></span>
LOCATION:210 At the Tracks 210 Locust Street Gadsden\, AL 35901
UID:e.1432.400984
SEQUENCE:3
DTSTAMP:20260422T061529Z
URL:http://business.etowahchamber.org/events/details/coosa-valley-annual-model-railroad-show-400984
END:VEVENT

END:VCALENDAR
