BEGIN:VCALENDAR
VERSION:2.0
PRODID:-//ChamberMaster//Event Calendar 2.0//EN
METHOD:PUBLISH
X-PUBLISHED-TTL:P3D
REFRESH-INTERVAL:P3D
CALSCALE:GREGORIAN
BEGIN:VEVENT
DTSTART:20170422T003000Z
DTEND:20170422T050000Z
X-MICROSOFT-CDO-ALLDAYEVENT:FALSE
SUMMARY:Corey Smith Live at Center Stage
DESCRIPTION:Corey Smith Live at Center Stage Saturday April 21st 2017 at 7:30 P.M. In Rainbow City! General Admission Tickets are $25.00 Skybox's are $450.00 and comes with 10 tickets. Call (256) 490-2772 to reserve a Skybox.
X-ALT-DESC;FMTTYPE=text/html:<span style="font-size:16px\;"><span style="font-family:arial\;">Corey Smith Live at Center Stage Saturday April 21st 2017 at 7:30 P.M.&nbsp\;In Rainbow City! General Admission Tickets are $25.00 Skybox&#39\;s are $450.00 and comes with 10 tickets. Call (256) 490-2772 to reserve a Skybox.</span></span>
LOCATION:Center Stage Promotion\, LLC 209 Rescia Avenue Rainbow City\, AL 35906
UID:e.1432.392318
SEQUENCE:3
DTSTAMP:20260425T193244Z
URL:http://business.etowahchamber.org/events/details/corey-smith-live-at-center-stage-392318
END:VEVENT

END:VCALENDAR
