BEGIN:VCALENDAR
VERSION:2.0
PRODID:-//ChamberMaster//Event Calendar 2.0//EN
METHOD:PUBLISH
X-PUBLISHED-TTL:P3D
REFRESH-INTERVAL:P3D
CALSCALE:GREGORIAN
BEGIN:VEVENT
DTSTART;VALUE=DATE:20140416
DTEND;VALUE=DATE:20140417
TRANSP:TRANSPARENT
X-MICROSOFT-CDO-ALLDAYEVENT:TRUE
SUMMARY:Council on Aging: Pre-May Day Health Fair
DESCRIPTION:
X-ALT-DESC;FMTTYPE=text/html:
LOCATION:Convention Hall
UID:e.1432.384248
SEQUENCE:3
DTSTAMP:20260422T211121Z
URL:http://business.etowahchamber.org/events/details/council-on-aging-pre-may-day-health-fair-04-16-2014-384248
END:VEVENT

END:VCALENDAR
