BEGIN:VCALENDAR
VERSION:2.0
PRODID:-//ChamberMaster//Event Calendar 2.0//EN
METHOD:PUBLISH
X-PUBLISHED-TTL:P3D
REFRESH-INTERVAL:P3D
CALSCALE:GREGORIAN
BEGIN:VEVENT
DTSTART:20200317T190000Z
DTEND:20200317T203000Z
X-MICROSOFT-CDO-ALLDAYEVENT:FALSE
SUMMARY:COVID-19 Business Update and Preparedness Checklist - Session 2
DESCRIPTION:Members\,\n\n\n\nWe will host two identical webinars tomorrow to update our members on business issues related to the COVID-19 pandemic. This update will primarily focus on how businesses can prepare for and internally respond to the coronavirus disease 2019\, resources for economic disaster that are currently known to be available\, and state and federal legislation that may be of interest to our members. \n\n\n\nWe will not have information available specifically about the virus\, community response\, infection rates\, etc. but will work to connect you soon with professionals from our area that can provide that information. \n\n\n\nYou only need to register and log in for one session. These sessions will be identical. We will determine\, as time progresses\, how often we need to provide business updates via teleconferencing. Participating in the teleconference may require an application/software download\, but should be accessible through most operating systems and on smart phones. If one teleconference reaches capacity\, we will work to provide additional sessions. \n\n\n\nSESSION TWO:\n\nCOVID-19 Business Update & Preparedness Checklist\n\nTue\, Mar 17\, 2020 2:00 PM - 3:30 PM (CDT)\n\n\n\nPlease join my meeting from your computer\, tablet or smartphone.  \n\nhttps://global.gotomeeting.com/join/313458037 \n\n\n\nYou can also dial in using your phone. \n\nUnited States: +1 (872) 240-3311 \n\n\n\nAccess Code: 313-458-037 \n\n\n\nNew to GoToMeeting? Get the app now and be ready when your first meeting starts:\n\nhttps://global.gotomeeting.com/install/313458037
X-ALT-DESC;FMTTYPE=text/html:Members\,<br />\n<br />\nWe will host two identical webinars tomorrow to update our members on business issues related to the COVID-19 pandemic. This update will primarily focus on how businesses can prepare for and internally respond to the coronavirus disease 2019\, resources for economic disaster that are currently known to be available\, and state and federal legislation that may be of interest to our members.&nbsp\;<br />\n<br />\nWe will not have information available specifically about the virus\, community response\, infection rates\, etc. but will work to connect you soon with professionals from our area that can provide that information.&nbsp\;<br />\n<br />\nYou only need to register and log in for one session. These sessions will be identical. We will determine\, as time progresses\, how often we need to provide business updates via teleconferencing. Participating in the teleconference may require an application/software download\, but should be accessible through most operating systems and on smart phones. If one teleconference reaches capacity\, we will work to provide additional sessions.&nbsp\;<br />\n<br />\nSESSION TWO:<br />\n<span><span class="inv-subject">COVID-19 Business Update &amp\; Preparedness Checklist</span><br />\n<span class="inv-date">Tue\, Mar 17\, 2020 2:00 PM - 3:30 PM (CDT)</span><br />\n<br />\n<b><span>Please join my meeting from your computer\, tablet or smartphone. </span> </b><br />\n<span class="inv-meeting-url"><a href="https://global.gotomeeting.com/join/313458037" target="_blank">https://global.gotomeeting.com/join/313458037</a> </span><br />\n<br />\n<b><span>You can also dial in using your phone.</span> </b><br />\n<span>United States: <a href="tel:+18722403311\,\,313458037#">+1 (872) 240-3311</a> </span><br />\n<br />\n<span><b>Access Code:</b> <span>313-458-037</span> </span><br />\n<br />\n<span>New to GoToMeeting? Get the app now and be ready when your first meeting starts:<br />\n<a href="https://global.gotomeeting.com/install/313458037" target="_blank">https://global.gotomeeting.com/install/313458037</a> </span> </span><br />\n<br />\n&nbsp\;
LOCATION:ONLINE ONLY
UID:e.1432.402794
SEQUENCE:3
DTSTAMP:20260419T233506Z
URL:http://business.etowahchamber.org/events/details/covid-19-business-update-and-preparedness-checklist-session-2-402794
END:VEVENT

END:VCALENDAR
