BEGIN:VCALENDAR
VERSION:2.0
PRODID:-//ChamberMaster//Event Calendar 2.0//EN
METHOD:PUBLISH
X-PUBLISHED-TTL:P3D
REFRESH-INTERVAL:P3D
CALSCALE:GREGORIAN
BEGIN:VEVENT
DTSTART:20131026T140000Z
DTEND:20131026T190000Z
X-MICROSOFT-CDO-ALLDAYEVENT:FALSE
SUMMARY:Craftin on the Coosa - Craft Fair/Home Business Expo
DESCRIPTION:Calling all crafters and home based businesses\, we are having a craft fair! We need crafters\, Premier Design Jewelers\, Pampered Chef\, Mary Kay and lots of other vendors. The YMCA is raising money for the child care department. A partition wall is going to be built to separate the younger children from the older ones. The wall will allow us to provide appropriate activities for each age group.
X-ALT-DESC;FMTTYPE=text/html:Calling all crafters and home based businesses\, we are having a craft fair! We need crafters\, Premier Design Jewelers\, Pampered Chef\, Mary Kay and lots of other vendors. The YMCA is raising money for the child care department. A partition wall is going to be built to separate the younger children from the older ones. The wall will allow us to provide appropriate activities for each age group.
LOCATION:YMCA gym located at 100 Walnut St Gadsden AL 35901
UID:e.1432.384099
SEQUENCE:3
DTSTAMP:20260423T052628Z
URL:http://business.etowahchamber.org/events/details/craftin-on-the-coosa-craft-fair-home-business-expo-10-26-2013-384099
END:VEVENT

END:VCALENDAR
