BEGIN:VCALENDAR
VERSION:2.0
PRODID:-//ChamberMaster//Event Calendar 2.0//EN
METHOD:PUBLISH
X-PUBLISHED-TTL:P3D
REFRESH-INTERVAL:P3D
CALSCALE:GREGORIAN
BEGIN:VEVENT
DTSTART:20130504T160000Z
DTEND:20130504T190000Z
X-MICROSOFT-CDO-ALLDAYEVENT:FALSE
SUMMARY:Crawfish Boil at the Gadsden Airport
DESCRIPTION:Benefiting the Humane Society Pet Rescue and Adoption Center and other local animal shelters. Bring your pups\, lawn chairs and coolers (no glass bottles). Enjoy fresh crawfish\, airplanes\, and prizes. For a donation\, there will be drawings for a Discovery airplane flight. Fresh crawfish available for $8.00 per plate until gone. Also available are hot dogs\, chips and sodas. Enjoy live music by the band "Skydogs".
X-ALT-DESC;FMTTYPE=text/html:Benefiting the Humane Society Pet Rescue and Adoption Center and other local animal shelters. Bring your pups\, lawn chairs and coolers (no glass bottles). Enjoy fresh crawfish\, airplanes\, and prizes. For a donation\, there will be drawings for a Discovery airplane flight. Fresh crawfish available for $8.00 per plate until gone. Also available are hot dogs\, chips and sodas. Enjoy live music by the band &quot\;Skydogs&quot\;. 
LOCATION:209 Hanger Road\, Gadsden\, AL 35904
UID:e.1432.383217
SEQUENCE:3
DTSTAMP:20260423T094412Z
URL:http://business.etowahchamber.org/events/details/crawfish-boil-at-the-gadsden-airport-05-04-2013-383217
END:VEVENT

END:VCALENDAR
