BEGIN:VCALENDAR
VERSION:2.0
PRODID:-//ChamberMaster//Event Calendar 2.0//EN
METHOD:PUBLISH
X-PUBLISHED-TTL:P3D
REFRESH-INTERVAL:P3D
CALSCALE:GREGORIAN
BEGIN:VEVENT
DTSTART:20121020T190000Z
DTEND:20121021T170000Z
X-MICROSOFT-CDO-ALLDAYEVENT:FALSE
SUMMARY:CYCLOCROSS RACING RETURNS TO GADSDEN THIS WEEKEND
DESCRIPTION:Cyclocross Racing Returns to Gadsden This Weekend!  Bamacross\, a state series of Cyclocross races\, returns to Gadsden this weekend\, Oct 20-21\, at the Gadsden Sports Complex.  Cyclo cross is a form of bicyle racing that combines on road and off road cycling in multiple short circuit laps.  This weekend's races will take place in a spectacular friendly area of the Sports Complex\, located on West Meighan Blvd.  New this year is a rare night race on Saturday night.
X-ALT-DESC;FMTTYPE=text/html:Cyclocross Racing Returns to Gadsden This Weekend! &nbsp\;Bamacross\, a state series of Cyclocross&nbsp\;races\, returns to Gadsden this weekend\, Oct 20-21\, at the Gadsden Sports Complex. &nbsp\;Cyclo cross is a form of bicyle racing that combines on road and off road cycling in multiple short circuit laps. &nbsp\;This weekend&#39\;s races will take place in a spectacular friendly area of the Sports Complex\, located on West Meighan Blvd. &nbsp\;New this year is a rare night race on Saturday night.
LOCATION:Gadsden Sports Complex
UID:e.1432.382794
SEQUENCE:3
DTSTAMP:20260423T003733Z
URL:http://business.etowahchamber.org/events/details/cyclocross-racing-returns-to-gadsden-this-weekend-10-20-2012-382794
END:VEVENT

END:VCALENDAR
