BEGIN:VCALENDAR
VERSION:2.0
PRODID:-//ChamberMaster//Event Calendar 2.0//EN
METHOD:PUBLISH
X-PUBLISHED-TTL:P3D
REFRESH-INTERVAL:P3D
CALSCALE:GREGORIAN
BEGIN:VEVENT
DTSTART:20140620T190000Z
DTEND:20140620T210000Z
X-MICROSOFT-CDO-ALLDAYEVENT:FALSE
SUMMARY:Day of Action
DESCRIPTION:After we complete our Day of Action projects for the Boys & Girls Club join us at Old Mexico for some tasty margaritas and beer specials.
X-ALT-DESC;FMTTYPE=text/html:<span style="font-family:century\,serif\;"><span style="font-size:11.0pt\;">After we complete our Day of Action projects for the Boys &amp\; Girls Club join us at Old Mexico for some tasty margaritas and beer specials.</span></span>
LOCATION:Old Mexico 93 Walker St\, Gadsden\, AL 35904 (256) 570-0570
UID:e.1432.384462
SEQUENCE:3
DTSTAMP:20260422T195201Z
URL:http://business.etowahchamber.org/events/details/day-of-action-06-20-2014-384462
END:VEVENT

END:VCALENDAR
