BEGIN:VCALENDAR
VERSION:2.0
PRODID:-//ChamberMaster//Event Calendar 2.0//EN
METHOD:PUBLISH
X-PUBLISHED-TTL:P3D
REFRESH-INTERVAL:P3D
CALSCALE:GREGORIAN
BEGIN:VEVENT
DTSTART:20121020T140000Z
DTEND:20121021T030000Z
X-MICROSOFT-CDO-ALLDAYEVENT:FALSE
SUMMARY:Dive Land Park 1st Annual Pumpkin Carving and Outdoor Event
DESCRIPTION:Dive Land Park 1st Annual Pumpkin Carving Contest at 1pm and Outdoor Event!  Featuring Blackheart and Amberson-Baggett Band!  Gates Open 9am!  Come on out and join the fun hourly door prizes beginning at 2pm!  Prizes awarded to pumpkin carving winners.  Karoake Music thru the afternoon w/Mossburg Karoake.  Food provided by Smoke N Hot BBQ!  Band starts at 6pm!
X-ALT-DESC;FMTTYPE=text/html:Dive Land Park 1st Annual Pumpkin Carving Contest at 1pm and Outdoor Event! &nbsp\;Featuring Blackheart and Amberson-Baggett Band! &nbsp\;Gates Open 9am! &nbsp\;Come on out and join the fun hourly door prizes beginning at 2pm! &nbsp\;Prizes awarded to pumpkin carving winners. &nbsp\;Karoake Music thru the afternoon w/Mossburg Karoake. &nbsp\;Food provided by Smoke N Hot BBQ! &nbsp\;Band starts at 6pm!
LOCATION:Dive Land Park - 401 Websters Chapel Road\, Glencoe AL 256-492-4455
UID:e.1432.382776
SEQUENCE:3
DTSTAMP:20260423T004534Z
URL:http://business.etowahchamber.org/events/details/dive-land-park-1st-annual-pumpkin-carving-and-outdoor-event-10-20-2012-382776
END:VEVENT

END:VCALENDAR
