BEGIN:VCALENDAR
VERSION:2.0
PRODID:-//ChamberMaster//Event Calendar 2.0//EN
METHOD:PUBLISH
X-PUBLISHED-TTL:P3D
REFRESH-INTERVAL:P3D
CALSCALE:GREGORIAN
BEGIN:VEVENT
DTSTART:20180908T140000Z
DTEND:20180908T180000Z
X-MICROSOFT-CDO-ALLDAYEVENT:FALSE
SUMMARY:Diversity Workforce Recruitment Fair
DESCRIPTION:This Recruitment Fair will assist in getting the community\, students\, and alumni employment opportunities. It will provide an opportunity for students to prepare for the next chapter after graduation and alumni to make a career change if needed. The Diversity Workforce Recruitment Fair is hosted by the Black Alumni Chapter of the JSU National Alumni Association and co-sponsored by the JSU Alumni Relations and Career Services Offices. JSU students\, alumni\, and community members are encouraged to attend. Come dressed for success with your resume. Students\, alumni\, and community members do not need to pre-register. The cost is free for employers\, recruiters\, students\, alumni\, and community members. Employers and recruiters wishing to register may go to http://www.jsu.edu/careerservices/events/index.html.
X-ALT-DESC;FMTTYPE=text/html:This Recruitment Fair will assist in getting the community\, students\, and alumni employment opportunities. It will provide an opportunity for students to prepare for the next chapter after graduation and alumni to make a career change if needed. The Diversity Workforce Recruitment Fair is hosted by the Black Alumni Chapter of the JSU National Alumni Association and co-sponsored by the JSU Alumni Relations and Career Services Offices. JSU students\, alumni\, and community members are encouraged to attend. Come dressed for success with your resume. Students\, alumni\, and community members do not need to pre-register. The cost is free for employers\, recruiters\, students\, alumni\, and community members. Employers and recruiters wishing to register may go to http://www.jsu.edu/careerservices/events/index.html.
LOCATION:Theron Montgomery Building @ JSU
UID:e.1432.398033
SEQUENCE:3
DTSTAMP:20260422T192204Z
URL:http://business.etowahchamber.org/events/details/diversity-workforce-recruitment-fair-398033
END:VEVENT

END:VCALENDAR
