BEGIN:VCALENDAR
VERSION:2.0
PRODID:-//ChamberMaster//Event Calendar 2.0//EN
METHOD:PUBLISH
X-PUBLISHED-TTL:P3D
REFRESH-INTERVAL:P3D
CALSCALE:GREGORIAN
BEGIN:VEVENT
DTSTART:20200905T160000Z
DTEND:20200905T220000Z
X-MICROSOFT-CDO-ALLDAYEVENT:FALSE
SUMMARY:"Door 2 Door" Census Count with Carver Community Revitalization Committee
DESCRIPTION:The once-a-decade population count affects our representation in government\, determines how much funding our community receives\, and provides data to help plan for the future. \n\n\n\nJoin us to spread the word about the importance of the 2020 Census and help ensure a complete and accurate count by going "Door2Door."\n\n\n\nPartnering with CCRC\, you become part of a powerful network of government\, nonprofit\, corporate\, and community organizations. \n\n\n\nTogether\, we can develop solutions to effectively reach everyone and encourage them to respond to the 2020 Census.
X-ALT-DESC;FMTTYPE=text/html:<span style="font-size:16px\;"><span style="font-family:arial\;">The once-a-decade population count affects our representation in government\, determines how much funding our community receives\, and provides data to help plan for the future.&nbsp\;<br />\n<br />\nJoin us to spread the word about the importance of the 2020 Census and help ensure a complete and accurate count by going &quot\;Door2Door.&quot\;<br />\n<br />\nPartnering with CCRC\, you become part of a powerful network of government\, nonprofit\, corporate\, and community organizations.&nbsp\;<br />\n<br />\nTogether\, we can develop solutions to effectively reach everyone and encourage them to respond to the 2020 Census.</span></span>
LOCATION:
UID:e.1432.403278
SEQUENCE:3
DTSTAMP:20260419T153911Z
URL:http://business.etowahchamber.org/events/details/door-2-door-census-count-with-carver-community-revitalization-committee-403278
END:VEVENT

END:VCALENDAR
