BEGIN:VCALENDAR
VERSION:2.0
PRODID:-//ChamberMaster//Event Calendar 2.0//EN
METHOD:PUBLISH
X-PUBLISHED-TTL:P3D
REFRESH-INTERVAL:P3D
CALSCALE:GREGORIAN
BEGIN:VEVENT
DTSTART:20191107T004500Z
DTEND:20191107T014500Z
X-MICROSOFT-CDO-ALLDAYEVENT:FALSE
SUMMARY:"Double The Strength\, Double The Fun" Partner Yoga Practice
DESCRIPTION:Join us in this fun and playful yoga practice. It's an awesome way to share your practice with someone\, family\, friend\, co-worker\, anyone! Open to all levels. Price:$15 each. Limited to 5 pairs. Please arrive 15 minutes prior to class.
X-ALT-DESC;FMTTYPE=text/html:<span style="font-size:16px\;"><span style="font-family:arial\;"><span style="color: rgb(29\, 33\, 41)\; white-space: pre-wrap\;">Join us in this fun and playful yoga practice. It&#39\;s an awesome way to share your practice with someone\, family\, friend\, co-worker\, anyone! Open to all levels. Price:$15 each. Limited to 5 pairs. Please arrive 15 minutes prior to class.</span></span></span>
LOCATION:Yoga Aims Studio
UID:e.1432.401768
SEQUENCE:3
DTSTAMP:20260420T071049Z
URL:http://business.etowahchamber.org/events/details/double-the-strength-double-the-fun-partner-yoga-practice-401768
END:VEVENT

END:VCALENDAR
