BEGIN:VCALENDAR
VERSION:2.0
PRODID:-//ChamberMaster//Event Calendar 2.0//EN
METHOD:PUBLISH
X-PUBLISHED-TTL:P3D
REFRESH-INTERVAL:P3D
CALSCALE:GREGORIAN
BEGIN:VEVENT
DTSTART:20191122T160000Z
DTEND:20191123T000000Z
X-MICROSOFT-CDO-ALLDAYEVENT:FALSE
SUMMARY:Downtown Gadsden Christmas Open House
DESCRIPTION:Shop under the stars this holiday season at Downtown Gadsden's Christmas Open House! Shops will be open most of the day and there are plenty of restaurants to sit and relax in between shopping trips. Windows will be decorated with star displays\, Elf on the Shelf will be hidden among shops to be found for prizes\, and treats will be served. It will be a magical weekend. You might even catch a glimpse of Santa on Saturday. He'll be downtown visiting shops and taking names.
X-ALT-DESC;FMTTYPE=text/html:<span style="font-size:16px\;"><span style="font-family:arial\;"><span style="color: rgb(29\, 33\, 41)\; white-space: pre-wrap\;">Shop under the stars this holiday season at Downtown Gadsden&#39\;s Christmas Open House! Shops will be open most of the day and there are plenty of restaurants to sit and relax in between shopping trips. Windows will be decorated with star displays\, Elf on the Shelf will be hidden among shops to be found for prizes\, and treats will be served. It will be a magical weekend. You might even catch a glimpse of Santa on Saturday. He&#39\;ll be downtown visiting shops and taking names.</span></span></span>
LOCATION:Downtown Gadsden Participating Merchants
UID:e.1432.401802
SEQUENCE:3
DTSTAMP:20260420T071051Z
URL:http://business.etowahchamber.org/events/details/downtown-gadsden-christmas-open-house-401802
END:VEVENT

END:VCALENDAR
