BEGIN:VCALENDAR
VERSION:2.0
PRODID:-//ChamberMaster//Event Calendar 2.0//EN
METHOD:PUBLISH
X-PUBLISHED-TTL:P3D
REFRESH-INTERVAL:P3D
CALSCALE:GREGORIAN
BEGIN:VEVENT
DTSTART:20200808T160000Z
DTEND:20200808T220000Z
X-MICROSOFT-CDO-ALLDAYEVENT:FALSE
SUMMARY:Downtown Gadsden Sidewalk Sale
DESCRIPTION:Join us as our merchants move outside on Friday and Saturday! Remember to wear your mask and social distance so that we can all remain safe.
X-ALT-DESC;FMTTYPE=text/html:<span style="font-size:16px\;"><span style="font-family:arial\;"><span style="color: rgb(29\, 33\, 41)\; white-space: pre-wrap\;">Join us as our merchants move outside on Friday and Saturday! Remember to wear your mask and social distance so that we can all remain safe.</span></span></span>
LOCATION:Downtown Gadsden Participating Merchants
UID:e.1432.403256
SEQUENCE:3
DTSTAMP:20260419T172335Z
URL:http://business.etowahchamber.org/events/details/downtown-gadsden-sidewalk-sale-08-08-2020-403256
END:VEVENT

END:VCALENDAR
