BEGIN:VCALENDAR
VERSION:2.0
PRODID:-//ChamberMaster//Event Calendar 2.0//EN
METHOD:PUBLISH
X-PUBLISHED-TTL:P3D
REFRESH-INTERVAL:P3D
CALSCALE:GREGORIAN
BEGIN:VEVENT
DTSTART:20201031T160000Z
DTEND:20201031T200000Z
X-MICROSOFT-CDO-ALLDAYEVENT:FALSE
SUMMARY:Downtown Gadsden Trick or Treat
DESCRIPTION:Children 12 & under are invited to bring their parents and trick or treat at participating stores! Businesses will have a pumpkin sign placed in their window to show that they are participating so come in your Halloween costumes and enjoy downtown Gadsden!
X-ALT-DESC;FMTTYPE=text/html:<span style="font-size:16px\;"><span style="font-family:arial\;">Children 12 &amp\; under are invited to bring their parents and trick or treat at participating stores! Businesses will have a pumpkin sign placed in their window to show that they are participating so come in your Halloween costumes and enjoy downtown Gadsden!</span></span>
LOCATION:Downtown Gadsden
UID:e.1432.403467
SEQUENCE:3
DTSTAMP:20260421T081521Z
URL:http://business.etowahchamber.org/events/details/downtown-gadsden-trick-or-treat-403467
END:VEVENT

END:VCALENDAR
