BEGIN:VCALENDAR
VERSION:2.0
PRODID:-//ChamberMaster//Event Calendar 2.0//EN
METHOD:PUBLISH
X-PUBLISHED-TTL:P3D
REFRESH-INTERVAL:P3D
CALSCALE:GREGORIAN
BEGIN:VEVENT
DTSTART;VALUE=DATE:20140816
DTEND;VALUE=DATE:20140817
TRANSP:TRANSPARENT
X-MICROSOFT-CDO-ALLDAYEVENT:TRUE
SUMMARY:Dragon Boat Festival - Habitat for Humanity
DESCRIPTION:
X-ALT-DESC;FMTTYPE=text/html:
LOCATION:Coosa River
UID:e.1432.384265
SEQUENCE:3
DTSTAMP:20260422T160953Z
URL:http://business.etowahchamber.org/events/details/dragon-boat-festival-habitat-for-humanity-08-16-2014-384265
END:VEVENT

END:VCALENDAR
