BEGIN:VCALENDAR
VERSION:2.0
PRODID:-//ChamberMaster//Event Calendar 2.0//EN
METHOD:PUBLISH
X-PUBLISHED-TTL:P3D
REFRESH-INTERVAL:P3D
CALSCALE:GREGORIAN
BEGIN:VEVENT
DTSTART:20200505T150000Z
DTEND:20200505T190000Z
X-MICROSOFT-CDO-ALLDAYEVENT:FALSE
SUMMARY:Drive-Thru COVID-19 Testing
DESCRIPTION:Alabama Department of Public Health will conduct a drive-thru testing site on Tuesday\, May 5\, 2020 from 10 am - 2 pm at East Gadsden United Methodist Church parking lot. \n\n\n\nEast Gadsden United Methodist Church is located at 201 South 8th Street\, Gadsden\, AL 35903 (behind the Etowah County Health Department). \n\n\n\nDirectional signage will guide participants through the site. \n\n\n\nNo doctor recommendation is needed.
X-ALT-DESC;FMTTYPE=text/html:<i>Alabama Department of Public Health will conduct a drive-thru testing site on Tuesday\, May 5\, 2020 from 10 am - 2 pm at East Gadsden United Methodist Church parking lot.&nbsp\;</i><br />\n<br />\nEast Gadsden United Methodist Church is located at 201 South 8th Street\, Gadsden\, AL 35903 (behind the Etowah County Health Department).&nbsp\;<br />\n<br />\nDirectional signage will guide participants through the site.&nbsp\;<br />\n<br />\nNo doctor recommendation is needed.&nbsp\;
LOCATION:East Gadsden United Methodist Church 201 South 8th Street Gadsden\, AL 35903
UID:e.1432.402878
SEQUENCE:3
DTSTAMP:20260419T203110Z
URL:http://business.etowahchamber.org/events/details/drive-thru-covid-19-testing-402878
END:VEVENT

END:VCALENDAR
