BEGIN:VCALENDAR
VERSION:2.0
PRODID:-//ChamberMaster//Event Calendar 2.0//EN
METHOD:PUBLISH
X-PUBLISHED-TTL:P3D
REFRESH-INTERVAL:P3D
CALSCALE:GREGORIAN
BEGIN:VEVENT
DTSTART:20201031T130000Z
DTEND:20201031T170000Z
X-MICROSOFT-CDO-ALLDAYEVENT:FALSE
SUMMARY:Drivers Education Course at Gadsden State Community College
DESCRIPTION:Driver's education classes will be offered from 8 a.m. to noon Oct. 24 and 31 and Nov. 7 and 14 at the Joe Ford Center on the East Broad Campus. Students must attend all four classes in a session to receive credit from instructor\, Greg Hall.\n\n\n\nThe class size is limited to 12 students. The course is $175 and pre-registration is required. During driver's education\, students will drive three at a time while others remain in the classroom during the non-skills portion of the class. While driving\, gloves and masks are required\, and windows will be rolled down\, weather permitting.
X-ALT-DESC;FMTTYPE=text/html:<span style="color: rgb(43\, 39\, 44)\; font-family: arial\; font-size: 16px\;">Driver&rsquo\;s education classes will be offered from 8 a.m. to noon Oct. 24 and 31 and Nov. 7 and 14 at the Joe Ford Center on the East Broad Campus. Students must attend all four classes in a session to receive credit from instructor\, Greg Hall.<br />\n<br />\nThe class size is limited to 12 students. The course is $175 and pre-registration is required. During driver&rsquo\;s education\, students will drive three at a time while others remain in the classroom during the non-skills portion of the class. While driving\, gloves and masks are required\, and windows will be rolled down\, weather permitting.</span>
LOCATION:Gadsden State Community College- Joe Ford Center
UID:e.1432.403466
SEQUENCE:3
DTSTAMP:20260421T081520Z
URL:http://business.etowahchamber.org/events/details/drivers-education-course-at-gadsden-state-community-college-10-31-2020-403466
END:VEVENT

END:VCALENDAR
