BEGIN:VCALENDAR
VERSION:2.0
PRODID:-//ChamberMaster//Event Calendar 2.0//EN
METHOD:PUBLISH
X-PUBLISHED-TTL:P3D
REFRESH-INTERVAL:P3D
CALSCALE:GREGORIAN
BEGIN:VEVENT
DTSTART:20190422T210000Z
DTEND:20190423T000000Z
X-MICROSOFT-CDO-ALLDAYEVENT:FALSE
SUMMARY:Earth Cleanup Day at Noccalula Falls
DESCRIPTION:Celebrate Earth Day on Monday\, April 22 with Friends of the Falls! Meet at the Chapel at 4 to help clean up the gorge. All volunteers will be entered into a drawing to win a prize from Gadsden Outfitters. Let's do our part to make our beautiful park clean for all to enjoy! What better day than Earth Day!!
X-ALT-DESC;FMTTYPE=text/html:<span style="font-size:16px\;"><span style="font-family:arial\;"><span style="color: rgb(29\, 33\, 41)\; white-space: pre-wrap\;">Celebrate Earth Day on Monday\, April 22 with Friends of the Falls! Meet at the Chapel at 4 to help clean up the gorge. All volunteers will be entered into a drawing to win a prize from Gadsden Outfitters. Let&rsquo\;s do our part to make our beautiful park clean for all to enjoy! What better day than Earth Day!!</span></span></span>
LOCATION:Noccalula Falls Park & Campground 1500 Noccalula Road Gadsden\, AL 35904
UID:e.1432.400992
SEQUENCE:3
DTSTAMP:20260422T061537Z
URL:http://business.etowahchamber.org/events/details/earth-cleanup-day-at-noccalula-falls-400992
END:VEVENT

END:VCALENDAR
