BEGIN:VCALENDAR
VERSION:2.0
PRODID:-//ChamberMaster//Event Calendar 2.0//EN
METHOD:PUBLISH
X-PUBLISHED-TTL:P3D
REFRESH-INTERVAL:P3D
CALSCALE:GREGORIAN
BEGIN:VEVENT
DTSTART:20201007T200000Z
DTEND:20201007T230000Z
X-MICROSOFT-CDO-ALLDAYEVENT:FALSE
SUMMARY:Encompass Health Gadsden Drive-Thru Hiring Event
DESCRIPTION:Join us for a drive-thru hiring event!\n\n\n\nRSVP to Kim Collier at (205) 262-3624 or\n\nkim.collier@encompasshealth.com\n\n\n\n  Learn about our state-of-the-art inpatient rehabilitation\n\nhospital\n\n  Learn about benefits\, continuing education and growth\n\nopportunities\n\n  Meet hospital leadership and have an onsite interview\n\n\n\nNow hiring RNs\, LPNs and RNTs!\n\n  Career advancement through tuition reimbursement\,\n\ncontinuing education and individual development plans\n\n  We are currently hiring full-time RNs\, LPNs and RNTs with\n\nsign on bonuses available\n\n  We are offering a $5\,000 sign on bonus for RNs\, $1\,000\n\nfor LPNs and $500 for RNTs\n\n  Comprehensive pay and benefits starting day one for\n\nfull- and part-time employees\n\n  401(k) matching for full- and part-time employees\n\n\n\n\n\nAbout Encompass Health\n\nAs a national leader in inpatient rehabilitation hospitals and home-based care\, Encompass Health offers both facility-based and home-based patient care through its network of patient\n\nrehabilitation hospitals\, home health agencies\, and hospice agencies.
X-ALT-DESC;FMTTYPE=text/html:<span style="font-size:16px\;"><span style="font-family:arial\;"><strong>Join us for a drive-thru hiring event!</strong><br />\n<br />\nRSVP to Kim Collier at (205) 262-3624 or<br />\n<strong><a href="mailto:kim.collier@encompasshealth.com"><span style="color:#0000FF\;">kim.collier@encompasshealth.com</span></a></strong><br />\n<br />\n&bull\; Learn about our state-of-the-art inpatient rehabilitation<br />\nhospital<br />\n&bull\; Learn about benefits\, continuing education and growth<br />\nopportunities<br />\n&bull\; Meet hospital leadership and have an onsite interview<br />\n<br />\n<strong>Now hiring RNs\, LPNs and RNTs!</strong><br />\n&bull\; Career advancement through tuition reimbursement\,<br />\ncontinuing education and individual development plans<br />\n&bull\; We are currently hiring full-time RNs\, LPNs and RNTs with<br />\nsign on bonuses available<br />\n&bull\; We are offering a $5\,000 sign on bonus for RNs\, $1\,000<br />\nfor LPNs and $500 for RNTs<br />\n&bull\; Comprehensive pay and benefits starting day one for<br />\nfull- and part-time employees<br />\n&bull\; 401(k) matching for full- and part-time employees</span></span><br />\n<br />\n<br />\n<span style="font-size:16px\;"><span style="font-family:arial\;"><u><strong>About Encompass Health</strong></u><br />\nAs a national leader in inpatient rehabilitation hospitals and home-based care\, Encompass Health offers both facility-based and home-based patient care through its network of patient<br />\nrehabilitation hospitals\, home health agencies\, and hospice agencies.</span></span>
LOCATION:Encompass Health Gadsden
UID:e.1432.403436
SEQUENCE:3
DTSTAMP:20260423T084135Z
URL:http://business.etowahchamber.org/events/details/encompass-health-gadsden-drive-thru-hiring-event-403436
END:VEVENT

END:VCALENDAR
