BEGIN:VCALENDAR
VERSION:2.0
PRODID:-//ChamberMaster//Event Calendar 2.0//EN
METHOD:PUBLISH
X-PUBLISHED-TTL:P3D
REFRESH-INTERVAL:P3D
CALSCALE:GREGORIAN
BEGIN:VEVENT
DTSTART:20200429T200000Z
DTEND:20200429T210000Z
X-MICROSOFT-CDO-ALLDAYEVENT:FALSE
SUMMARY:Entrepreneur Task Team Meeting
DESCRIPTION:For those who can\, let's get together and recap some activities\, discussions and ideas that have been ongoing while we've been remote working.\n\n\n\nPlease join us at the link below:\n\n\n\nCommittee Meetings\n\n\n\nPlease join my meeting from your computer\, tablet or smartphone.  \n\nhttps://global.gotomeeting.com/join/684204965 \n\n\n\nYou can also dial in using your phone. \n\nUnited States: +1 (571) 317-3122 \n\n\n\nAccess Code: 684-204-965 \n\n\n\nNew to GoToMeeting? Get the app now and be ready when your first meeting starts:\n\nhttps://global.gotomeeting.com/install/684204965
X-ALT-DESC;FMTTYPE=text/html:For those who can\, let&#39\;s get together and recap some activities\, discussions and ideas that have been ongoing while we&#39\;ve been remote working.<br />\n<br />\nPlease join us at the link below:<br />\n<br />\n<span><span class="inv-subject">Committee Meetings</span><br />\n<br />\n<b><span>Please join my meeting from your computer\, tablet or smartphone. </span> </b><br />\n<span class="inv-meeting-url"><a href="https://global.gotomeeting.com/join/684204965" target="_blank">https://global.gotomeeting.com/join/684204965</a> </span><br />\n<br />\n<b><span>You can also dial in using your phone.</span> </b><br />\n<span>United States: <a href="tel:+15713173122\,\,684204965#">+1 (571) 317-3122</a> </span><br />\n<br />\n<span><b>Access Code:</b> <span>684-204-965</span> </span><br />\n<br />\n<span>New to GoToMeeting? Get the app now and be ready when your first meeting starts:<br />\n<a href="https://global.gotomeeting.com/install/684204965" target="_blank">https://global.gotomeeting.com/install/684204965</a> </span> </span><br />\n<br />\n&nbsp\;
LOCATION:
UID:e.1432.402867
SEQUENCE:3
DTSTAMP:20260419T220048Z
URL:http://business.etowahchamber.org/events/details/entrepreneur-task-team-meeting-402867
END:VEVENT

END:VCALENDAR
