BEGIN:VCALENDAR
VERSION:2.0
PRODID:-//ChamberMaster//Event Calendar 2.0//EN
METHOD:PUBLISH
X-PUBLISHED-TTL:P3D
REFRESH-INTERVAL:P3D
CALSCALE:GREGORIAN
BEGIN:VEVENT
DTSTART:20191023T150000Z
DTEND:20191023T160000Z
X-MICROSOFT-CDO-ALLDAYEVENT:FALSE
SUMMARY:Entrepreneurship\, Incubation and Innovation Task Team meeting
DESCRIPTION:Entrepreneurship\, Innovation and Incubation Task Team Meeting\n\nWednesday\, October 23\, 2019\n\n10 am\n\nChamber Board Room\n\n\n\nstart-up weekend update\n\n    Save the Date - February 7-9\, 2020\n\nyoung entreprEneur fair update\n\n    Save the Date\n\n    December 5 - Highlands Elementary\n\n    December 16 - Attalla Elementary\n\n    Still waiting for dates from 3 schools\n\n \n\njsu entrepreneur course update\n\n\n\ncoworking space update\n\n    Task team visits\, recommendation made to Executive Committee\n\n\n\nriverside oz UPDATE\n\n    Save the Date - December 9 - Chattanooga Visit\n\nother discussion\n\ndismissal
X-ALT-DESC;FMTTYPE=text/html:Entrepreneurship\, Innovation and Incubation Task Team Meeting<br />\nWednesday\, October 23\, 2019<br />\n10 am<br />\nChamber Board Room<br />\n<br />\n<strong><span style="text-transform:uppercase\;"><span style="color:windowtext\;"><span style="font-family:franklin gothic book\,sans-serif\;">start-up weekend update</span></span></span></strong><br />\n&nbsp\; &nbsp\; Save the Date - February 7-9\, 2020<br />\n<strong><span style="text-transform:uppercase\;"><span style="color:windowtext\;"><span style="font-family:franklin gothic book\,sans-serif\;">young entreprEneur fair update</span></span></span></strong><br />\n&nbsp\; &nbsp\; Save the Date<br />\n&nbsp\;&nbsp\;&nbsp\;&nbsp\;December 5 - Highlands Elementary<br />\n&nbsp\; &nbsp\; December 16 - Attalla Elementary<br />\n&nbsp\; &nbsp\; Still waiting for dates from 3 schools<br />\n&nbsp\;<br />\n<strong><span style="text-transform:uppercase\;"><span style="color:windowtext\;"><span style="font-family:franklin gothic book\,sans-serif\;">jsu entrepreneur course update</span></span></span></strong><br />\n<br />\n<strong><span style="text-transform:uppercase\;"><span style="color:windowtext\;"><span style="font-family:franklin gothic book\,sans-serif\;">coworking space update</span></span></span></strong><br />\n&nbsp\;&nbsp\;&nbsp\;&nbsp\;Task team visits\, recommendation made to Executive Committee<br />\n<br />\n<strong><span style="text-transform:uppercase\;"><span style="color:windowtext\;"><span style="font-family:franklin gothic book\,sans-serif\;">riverside oz UPDATE</span></span></span></strong><br />\n&nbsp\;&nbsp\;&nbsp\;&nbsp\;Save the Date - December 9 - Chattanooga Visit<br />\n<span style="text-transform:uppercase\;"><span style="color:windowtext\;"><span style="font-family:franklin gothic book\,sans-serif\;"><span style="font-size:11.0pt\;">other discussion</span></span></span></span><br />\n<span style="text-transform:uppercase\;"><span style="color:windowtext\;"><span style="font-family:franklin gothic book\,sans-serif\;"><span style="font-size:11.0pt\;">dismissal</span></span></span></span><br />\n&nbsp\;
LOCATION:Chamber Board Room
UID:e.1432.401517
SEQUENCE:3
DTSTAMP:20260420T071305Z
URL:http://business.etowahchamber.org/events/details/entrepreneurship-incubation-and-innovation-task-team-meeting-401517
END:VEVENT

END:VCALENDAR
