BEGIN:VCALENDAR
VERSION:2.0
PRODID:-//ChamberMaster//Event Calendar 2.0//EN
METHOD:PUBLISH
X-PUBLISHED-TTL:P3D
REFRESH-INTERVAL:P3D
CALSCALE:GREGORIAN
BEGIN:VEVENT
DTSTART:20191216T160000Z
DTEND:20191216T170000Z
X-MICROSOFT-CDO-ALLDAYEVENT:FALSE
SUMMARY:Entrepreneurship\, Incubation and Innovation Task Team meeting
DESCRIPTION:Join us for an update on our visit to the Chattanooga INCubator/Business Development Center\, activity on the TechStars Startup Weekend and more. Immediately after the meeting\, we will travel to Attalla Elementary to visit their inaugural Young Entrepreneur Fair that we sponsored! Bring a little cash in case you want to shop! :)
X-ALT-DESC;FMTTYPE=text/html:Join us for an update on our visit to the Chattanooga INCubator/Business Development Center\, activity on the TechStars Startup Weekend and more. Immediately after the meeting\, we will travel to Attalla Elementary to visit their inaugural Young Entrepreneur Fair that we sponsored! Bring a little cash in case you want to shop! :)&nbsp\;
LOCATION:Chamber Board Room
UID:e.1432.402459
SEQUENCE:3
DTSTAMP:20260420T041840Z
URL:http://business.etowahchamber.org/events/details/entrepreneurship-incubation-and-innovation-task-team-meeting-402459
END:VEVENT

END:VCALENDAR
