BEGIN:VCALENDAR
VERSION:2.0
PRODID:-//ChamberMaster//Event Calendar 2.0//EN
METHOD:PUBLISH
X-PUBLISHED-TTL:P3D
REFRESH-INTERVAL:P3D
CALSCALE:GREGORIAN
BEGIN:VEVENT
DTSTART:20190503T150000Z
DTEND:20190503T200000Z
X-MICROSOFT-CDO-ALLDAYEVENT:FALSE
SUMMARY:ERA King UCP Charity Golf Classic
DESCRIPTION:Golf for East Central UCP 7th Annual ERA King Charity Golf Classic\n\nWhere: Anniston Country Club\n\nWhen: Friday\, May 3rd Shotgun start at 10AM\n\nWho: 4 person teams / Sponsors Registration includes: 18 holes\, golf cart\, lunch\, event swag bags\, chance to win raffle prizes & tax deductible (All proceeds go directly to ECAUCP in our community)\n\n\n\nSponsorship Opportunities are available!\n\nContact Ashley Mitchell for more details at (256) 831-5656 or ashleym@eraking.com\n\n\n\nAbout East Central Alabama United Cerebral Palsy: Serving Calhoun\, Cleburne\, Randolph\, Talladega\, and Clay County East Central Alabama UCP is dedicated to serving individuals\, age birth to adulthood\, with developmental and physical disabilities\, including autism\, cerebral palsy\, down syndrome\, spina bifida\, or any other identified delay of 25% or more. #12MonthsofGiving #FindYourFuture
X-ALT-DESC;FMTTYPE=text/html:<span style="font-size:16px\;"><span style="font-family:arial\;"><u><strong>Golf for East Central UCP 7th Annual ERA King Charity Golf Classic</strong></u><br />\n<strong>Where:</strong> Anniston Country Club<br />\n<strong>When:</strong> Friday\, May 3rd Shotgun start at 10AM<br />\n<strong>Who: </strong>4 person teams / Sponsors Registration includes: 18 holes\, golf cart\, lunch\, event swag bags\, chance to win raffle prizes &amp\; tax deductible (All proceeds go directly to ECAUCP in our community)<br />\n<br />\nSponsorship Opportunities are available!<br />\nContact Ashley Mitchell for more details at (256) 831-5656 or <a href="mailto:ashleym@eraking.com"><span style="color:#0000FF\;">ashleym@eraking.com</span></a><br />\n<br />\n<em><strong>About East Central Alabama United Cerebral Palsy: Serving Calhoun\, Cleburne\, Randolph\, Talladega\, and Clay County East Central Alabama UCP is dedicated to serving individuals\, age birth to adulthood\, with developmental and physical disabilities\, including autism\, cerebral palsy\, down syndrome\, spina bifida\, or any other identified delay of 25% or more.</strong></em> #12MonthsofGiving #FindYourFuture</span></span>
LOCATION:Anniston Country Club 601 Highland Avenue Anniston\, AL 36207
UID:e.1432.400431
SEQUENCE:3
DTSTAMP:20260422T073859Z
URL:http://business.etowahchamber.org/events/details/era-king-ucp-charity-golf-classic-400431
END:VEVENT

END:VCALENDAR
