BEGIN:VCALENDAR
VERSION:2.0
PRODID:-//ChamberMaster//Event Calendar 2.0//EN
METHOD:PUBLISH
X-PUBLISHED-TTL:P3D
REFRESH-INTERVAL:P3D
CALSCALE:GREGORIAN
BEGIN:VEVENT
DTSTART:20140522T163000Z
DTEND:20140522T203000Z
X-MICROSOFT-CDO-ALLDAYEVENT:FALSE
SUMMARY:Etowah County American Red Cross Blood Drive
DESCRIPTION:Etowah County American Red Cross Blood Drive.\n\nFor an appointment\, please visit www.redcrossblood.org and enter Sponsor Code: Etowahrsmo\n\n\n\n The Need is Constant. The Gratification is Instant. Give Blood.\n\n\n\n* American Red Cross donor card or photo ID required.
X-ALT-DESC;FMTTYPE=text/html:Etowah County American Red Cross Blood Drive.<br />\nFor an appointment\, please visit www.redcrossblood.org and enter Sponsor Code: Etowahrsmo<br />\n<br />\n&#8203\;The Need is Constant. The Gratification is Instant. Give Blood.<br />\n<br />\n*&#8203\;American Red Cross donor card or photo ID required.<br />\n&nbsp\;
LOCATION:American Red Cross Building 405 South First Street\, Gadsden\, AL
UID:e.1432.384632
SEQUENCE:3
DTSTAMP:20260422T195227Z
URL:http://business.etowahchamber.org/events/details/etowah-county-american-red-cross-blood-drive-05-22-2014-384632
END:VEVENT

END:VCALENDAR
