BEGIN:VCALENDAR
VERSION:2.0
PRODID:-//ChamberMaster//Event Calendar 2.0//EN
METHOD:PUBLISH
X-PUBLISHED-TTL:P3D
REFRESH-INTERVAL:P3D
CALSCALE:GREGORIAN
BEGIN:VEVENT
DTSTART:20120913T130000Z
DTEND:20120913T150000Z
X-MICROSOFT-CDO-ALLDAYEVENT:FALSE
SUMMARY:Etowah County Farmers Federation Business Breakfast
DESCRIPTION:Business Breakfast at NE Community Center on HWY 411\, Gaston.  After the breakfast for local business there will be a tour conducted on several farms.
X-ALT-DESC;FMTTYPE=text/html:Business Breakfast at NE Community Center on HWY 411\, Gaston. &nbsp\;After the breakfast for local business there will be a tour conducted on several farms.
LOCATION:NE Community Center off Hwy 411 in Gaston
UID:e.1432.381897
SEQUENCE:3
DTSTAMP:20260422T231901Z
URL:http://business.etowahchamber.org/events/details/etowah-county-farmers-federation-business-breakfast-09-13-2012-381897
END:VEVENT

END:VCALENDAR
