BEGIN:VCALENDAR
VERSION:2.0
PRODID:-//ChamberMaster//Event Calendar 2.0//EN
METHOD:PUBLISH
X-PUBLISHED-TTL:P3D
REFRESH-INTERVAL:P3D
CALSCALE:GREGORIAN
BEGIN:VEVENT
DTSTART:20201002T120000Z
DTEND:20201002T210000Z
X-MICROSOFT-CDO-ALLDAYEVENT:FALSE
SUMMARY:Etowah County Health Department Drive-Thru Flu Shot Clinic
DESCRIPTION:The Etowah County Health Department will be offering the 2020 Drive-Thru Flu Shot Clinic.\n\n\n\nEvent will take place at the North Glencoe Baptist Church\, located at 1119 Chastain Boulevard (US Hwy 431)\, in East Gadsden\, 35903\, Alabama.\n\n\n\nThere will be no charge for current Medicare/Medicaid/Blue Cross Blue Shield Patients\; those covered under other Health Insurance Programs\, as well as the uninsured\, will be charged $15.
X-ALT-DESC;FMTTYPE=text/html:<span style="font-size:16px\;"><span style="font-family:arial\;">The Etowah County Health Department will be offering the <strong><a href="https://chambermaster.blob.core.windows.net/userfiles/UserFiles/chambers/1432/File/ECHD-2020DriveThruFluClinicBilingual.pdf"><span style="color:#0000FF\;">2020 Drive-Thru Flu Shot Clinic</span></a></strong>.<br />\n<br />\nEvent will take place at the North Glencoe Baptist Church\, located at 1119 Chastain Boulevard (US Hwy 431)\, in East Gadsden\, 35903\, Alabama.<br />\n<br />\nThere will be no charge for current Medicare/Medicaid/Blue Cross Blue Shield Patients\; those covered under other Health Insurance Programs\, as well as the uninsured\, will be charged $15.</span></span>
LOCATION:North Glencoe Baptist Church
UID:e.1432.403297
SEQUENCE:3
DTSTAMP:20260421T082227Z
URL:http://business.etowahchamber.org/events/details/etowah-county-health-department-drive-thru-flu-shot-clinic-403297
END:VEVENT

END:VCALENDAR
