BEGIN:VCALENDAR
VERSION:2.0
PRODID:-//ChamberMaster//Event Calendar 2.0//EN
METHOD:PUBLISH
X-PUBLISHED-TTL:P3D
REFRESH-INTERVAL:P3D
CALSCALE:GREGORIAN
BEGIN:VEVENT
DTSTART:20140412T230000Z
DTEND:20140412T230000Z
X-MICROSOFT-CDO-ALLDAYEVENT:FALSE
SUMMARY:Etowah County Sports Hall of Fame Inductee Banquet
DESCRIPTION:Etowah County Sports Hall of Fame Inductee Banquet @ Convention Hall. Tickets are $20.00 & may be purchased at Keystone Bank & Southside Family Pharmacy or calling Donny Pruitt@ 256-390-1867. Tickets are $25.00 at the door.  Inductees are: Pat Adkison\, Brodie Croyle\, Darell Dunn  Mark Morrison.
X-ALT-DESC;FMTTYPE=text/html:Etowah County Sports Hall of Fame Inductee Banquet @ Convention Hall. Tickets are $20.00 &amp\; may be purchased at Keystone Bank &amp\; Southside Family Pharmacy or calling Donny Pruitt@ 256-390-1867. Tickets are $25.00 at the door.&nbsp\; Inductees are: Pat Adkison\, Brodie Croyle\, Darell Dunn&nbsp\; Mark Morrison.
LOCATION:Convention Hall-Gadsden
UID:e.1432.384429
SEQUENCE:3
DTSTAMP:20260422T211407Z
URL:http://business.etowahchamber.org/events/details/etowah-county-sports-hall-of-fame-inductee-banquet-04-12-2014-384429
END:VEVENT

END:VCALENDAR
