BEGIN:VCALENDAR
VERSION:2.0
PRODID:-//ChamberMaster//Event Calendar 2.0//EN
METHOD:PUBLISH
X-PUBLISHED-TTL:P3D
REFRESH-INTERVAL:P3D
CALSCALE:GREGORIAN
BEGIN:VEVENT
DTSTART:20130421T003000Z
DTEND:20130421T003000Z
X-MICROSOFT-CDO-ALLDAYEVENT:FALSE
SUMMARY:Etowah Youth Orchestra Concert
DESCRIPTION:Etowah Youth Orchestra Concert at The Music Center at Temple Beth Israel featuring Three On A String
X-ALT-DESC;FMTTYPE=text/html:Etowah Youth Orchestra Concert at The Music Center at Temple Beth Israel featuring Three On A String
LOCATION:Music Center at Temple Beth Israel\; see cultural arts website for tickets
UID:e.1432.382785
SEQUENCE:3
DTSTAMP:20260423T082458Z
URL:http://business.etowahchamber.org/events/details/etowah-youth-orchestra-concert-04-20-2013-382785
END:VEVENT

END:VCALENDAR
