BEGIN:VCALENDAR
VERSION:2.0
PRODID:-//ChamberMaster//Event Calendar 2.0//EN
METHOD:PUBLISH
X-PUBLISHED-TTL:P3D
REFRESH-INTERVAL:P3D
CALSCALE:GREGORIAN
BEGIN:VEVENT
DTSTART:20121124T013000Z
DTEND:20121124T013000Z
X-MICROSOFT-CDO-ALLDAYEVENT:FALSE
SUMMARY:Etowah Youth Orchestra Concert
DESCRIPTION:Etowah Youth Orchestra Concert at The Music Center at Temple Beth Israel featuring Drake White
X-ALT-DESC;FMTTYPE=text/html:Etowah Youth Orchestra Concert at The Music Center at Temple Beth Israel featuring Drake White
LOCATION:Music Center at Temple Beth Israel
UID:e.1432.382782
SEQUENCE:3
DTSTAMP:20260423T021238Z
URL:http://business.etowahchamber.org/events/details/etowah-youth-orchestra-concert-11-23-2012-382782
END:VEVENT

END:VCALENDAR
