BEGIN:VCALENDAR
VERSION:2.0
PRODID:-//ChamberMaster//Event Calendar 2.0//EN
METHOD:PUBLISH
X-PUBLISHED-TTL:P3D
REFRESH-INTERVAL:P3D
CALSCALE:GREGORIAN
BEGIN:VEVENT
DTSTART:20120319T160000Z
DTEND:20120319T220000Z
X-MICROSOFT-CDO-ALLDAYEVENT:FALSE
SUMMARY:Event at LifeSouth Community Blood Center
DESCRIPTION:Mobile Blood Drive
X-ALT-DESC;FMTTYPE=text/html:Mobile Blood Drive
LOCATION:CVS - Rainbow Drive\, Gadsden
UID:e.1432.381164
SEQUENCE:3
DTSTAMP:20260422T152904Z
URL:http://business.etowahchamber.org/events/details/event-at-lifesouth-community-blood-center-03-19-2012-381164
END:VEVENT

END:VCALENDAR
