BEGIN:VCALENDAR
VERSION:2.0
PRODID:-//ChamberMaster//Event Calendar 2.0//EN
METHOD:PUBLISH
X-PUBLISHED-TTL:P3D
REFRESH-INTERVAL:P3D
CALSCALE:GREGORIAN
BEGIN:VEVENT
DTSTART;VALUE=DATE:20121001
DTEND;VALUE=DATE:20121025
TRANSP:TRANSPARENT
X-MICROSOFT-CDO-ALLDAYEVENT:TRUE
SUMMARY:"Everything I See Is New and Strange" Exhibit
DESCRIPTION:A retrospective exhibition of the work of Walter Inglis Anderson (1903-1965)  Few artists have captured the essence of the natural world\, literature\, and mythology so vivdly and with such passion.  Born in New Orleans and trained at the Pennsylvania Academy of the Fine Arts\, Anderson spent most of his life on the Mississippi Gulf Coast.  He is recognized for his enormous artistic output\, for the superb quality of his work\, and for his ability to evoke a sense of place both naturalistically accurate and universal in its poetic and artistic appeal.
X-ALT-DESC;FMTTYPE=text/html:A retrospective exhibition of the work of Walter Inglis Anderson (1903-1965)&nbsp\; Few artists have captured the essence of the natural world\, literature\, and mythology so vivdly and with such passion.&nbsp\; Born in New Orleans and trained at the Pennsylvania Academy of the Fine Arts\, Anderson spent most of his life on the Mississippi Gulf Coast.&nbsp\; He is recognized for his enormous artistic output\, for the superb quality of his work\, and for his ability to evoke a sense of place both naturalistically accurate and universal in its poetic and artistic appeal.
LOCATION:Mary G. Hardin Center for Cultural Arts Center in the Chan Gallery
UID:e.1432.382780
SEQUENCE:3
DTSTAMP:20260423T003733Z
URL:http://business.etowahchamber.org/events/details/everything-i-see-is-new-and-strange-exhibit-10-01-2012-382780
END:VEVENT

END:VCALENDAR
