BEGIN:VCALENDAR
VERSION:2.0
PRODID:-//ChamberMaster//Event Calendar 2.0//EN
METHOD:PUBLISH
X-PUBLISHED-TTL:P3D
REFRESH-INTERVAL:P3D
CALSCALE:GREGORIAN
BEGIN:VEVENT
DTSTART:20200217T210000Z
DTEND:20200217T220000Z
X-MICROSOFT-CDO-ALLDAYEVENT:FALSE
SUMMARY:Excellence in Education Application Review
DESCRIPTION:2020 Excellence in Education Application Review!
X-ALT-DESC;FMTTYPE=text/html:2020 Excellence in Education Application Review!&nbsp\;
LOCATION:
UID:e.1432.402719
SEQUENCE:3
DTSTAMP:20260420T024546Z
URL:http://business.etowahchamber.org/events/details/excellence-in-education-application-review-402719
END:VEVENT

END:VCALENDAR
