BEGIN:VCALENDAR
VERSION:2.0
PRODID:-//ChamberMaster//Event Calendar 2.0//EN
METHOD:PUBLISH
X-PUBLISHED-TTL:P3D
REFRESH-INTERVAL:P3D
CALSCALE:GREGORIAN
BEGIN:VEVENT
DTSTART:20191016T150000Z
DTEND:20191016T160000Z
X-MICROSOFT-CDO-ALLDAYEVENT:FALSE
SUMMARY:Excellence in Education Committee Meeting
DESCRIPTION:Join us for the first 2020 Excellence in Education committee meeting!
X-ALT-DESC;FMTTYPE=text/html:Join us for the first 2020 Excellence in Education committee meeting!&nbsp\;&nbsp\;&nbsp\;&nbsp\;
LOCATION:The Chamber Gregerson Room
UID:e.1432.401455
SEQUENCE:3
DTSTAMP:20260420T071225Z
URL:http://business.etowahchamber.org/events/details/excellence-in-education-committee-meeting-401455
END:VEVENT

END:VCALENDAR
