BEGIN:VCALENDAR
VERSION:2.0
PRODID:-//ChamberMaster//Event Calendar 2.0//EN
METHOD:PUBLISH
X-PUBLISHED-TTL:P3D
REFRESH-INTERVAL:P3D
CALSCALE:GREGORIAN
BEGIN:VEVENT
DTSTART:20200402T190000Z
DTEND:20200402T200000Z
X-MICROSOFT-CDO-ALLDAYEVENT:FALSE
SUMMARY:Excellence in Education Committee Meeting
DESCRIPTION:Log on for a virtual meeting with us to discuss a plan for the 2020 Excellence in Education Awards Luncheon! We want to make sure we have the best plan possible for moving forward with this event. \n\n\n\nExcellence in Education Committee Meeting\n\nThu\, Apr 2\, 2020 2:00 PM - 4:00 PM (CDT)\n\n\n\nPlease join my meeting from your computer\, tablet or smartphone.\n\nhttps://global.gotomeeting.com/join/340570181\n\n\n\nYou can also dial in using your phone.\n\nUnited States: +1 (571) 317-3112\n\n\n\nAccess Code: 340-570-181\n\n\n\nNew to GoToMeeting? Get the app now and be ready when your first meeting starts:\n\nhttps://global.gotomeeting.com/install/340570181
X-ALT-DESC;FMTTYPE=text/html:Log on for a virtual meeting with us to discuss a plan for the 2020 Excellence in Education Awards Luncheon! We want to make sure we have the best plan possible for moving forward with this event.&nbsp\;<br />\n<br />\n<span class="inv-subject" style="color: rgb(38\, 41\, 46)\; font-family: lato-regular\, &quot\;Helvetica Neue&quot\;\, Helvetica\, Arial\, sans-serif\; font-size: 14px\;">Excellence in Education Committee Meeting</span><br style="color: rgb(38\, 41\, 46)\; font-family: lato-regular\, &quot\;Helvetica Neue&quot\;\, Helvetica\, Arial\, sans-serif\; font-size: 14px\;" />\n<span class="inv-date" style="color: rgb(38\, 41\, 46)\; font-family: lato-regular\, &quot\;Helvetica Neue&quot\;\, Helvetica\, Arial\, sans-serif\; font-size: 14px\;">Thu\, Apr 2\, 2020 2:00 PM - 4:00 PM (CDT)</span><br style="color: rgb(38\, 41\, 46)\; font-family: lato-regular\, &quot\;Helvetica Neue&quot\;\, Helvetica\, Arial\, sans-serif\; font-size: 14px\;" />\n<br style="color: rgb(38\, 41\, 46)\; font-family: lato-regular\, &quot\;Helvetica Neue&quot\;\, Helvetica\, Arial\, sans-serif\; font-size: 14px\;" />\n<b style="color: rgb(38\, 41\, 46)\; font-family: lato-regular\, &quot\;Helvetica Neue&quot\;\, Helvetica\, Arial\, sans-serif\; font-size: 14px\;">Please join my meeting from your computer\, tablet or smartphone.</b><br style="color: rgb(38\, 41\, 46)\; font-family: lato-regular\, &quot\;Helvetica Neue&quot\;\, Helvetica\, Arial\, sans-serif\; font-size: 14px\;" />\n<span class="inv-meeting-url" style="color: rgb(38\, 41\, 46)\; font-family: lato-regular\, &quot\;Helvetica Neue&quot\;\, Helvetica\, Arial\, sans-serif\; font-size: 14px\;"><a href="https://global.gotomeeting.com/join/340570181" target="_blank">https://global.gotomeeting.com/join/340570181</a></span><br style="color: rgb(38\, 41\, 46)\; font-family: lato-regular\, &quot\;Helvetica Neue&quot\;\, Helvetica\, Arial\, sans-serif\; font-size: 14px\;" />\n<br style="color: rgb(38\, 41\, 46)\; font-family: lato-regular\, &quot\;Helvetica Neue&quot\;\, Helvetica\, Arial\, sans-serif\; font-size: 14px\;" />\n<b style="color: rgb(38\, 41\, 46)\; font-family: lato-regular\, &quot\;Helvetica Neue&quot\;\, Helvetica\, Arial\, sans-serif\; font-size: 14px\;">You can also dial in using your phone.</b><br style="color: rgb(38\, 41\, 46)\; font-family: lato-regular\, &quot\;Helvetica Neue&quot\;\, Helvetica\, Arial\, sans-serif\; font-size: 14px\;" />\n<span style="color: rgb(38\, 41\, 46)\; font-family: lato-regular\, &quot\;Helvetica Neue&quot\;\, Helvetica\, Arial\, sans-serif\; font-size: 14px\;">United States:&nbsp\;<a href="tel:+15713173112\,\,340570181#">+1 (571) 317-3112</a></span><br style="color: rgb(38\, 41\, 46)\; font-family: lato-regular\, &quot\;Helvetica Neue&quot\;\, Helvetica\, Arial\, sans-serif\; font-size: 14px\;" />\n<br style="color: rgb(38\, 41\, 46)\; font-family: lato-regular\, &quot\;Helvetica Neue&quot\;\, Helvetica\, Arial\, sans-serif\; font-size: 14px\;" />\n<span style="color: rgb(38\, 41\, 46)\; font-family: lato-regular\, &quot\;Helvetica Neue&quot\;\, Helvetica\, Arial\, sans-serif\; font-size: 14px\;"><b>Access Code:</b>&nbsp\;340-570-181</span><br style="color: rgb(38\, 41\, 46)\; font-family: lato-regular\, &quot\;Helvetica Neue&quot\;\, Helvetica\, Arial\, sans-serif\; font-size: 14px\;" />\n<br style="color: rgb(38\, 41\, 46)\; font-family: lato-regular\, &quot\;Helvetica Neue&quot\;\, Helvetica\, Arial\, sans-serif\; font-size: 14px\;" />\n<span style="color: rgb(38\, 41\, 46)\; font-family: lato-regular\, &quot\;Helvetica Neue&quot\;\, Helvetica\, Arial\, sans-serif\; font-size: 14px\;">New to GoToMeeting? Get the app now and be ready when your first meeting starts:<br />\n<a href="https://global.gotomeeting.com/install/340570181" target="_blank">https://global.gotomeeting.com/install/340570181</a></span>
LOCATION:
UID:e.1432.402808
SEQUENCE:3
DTSTAMP:20260419T220249Z
URL:http://business.etowahchamber.org/events/details/excellence-in-education-committee-meeting-402808
END:VEVENT

END:VCALENDAR
