BEGIN:VCALENDAR
VERSION:2.0
PRODID:-//ChamberMaster//Event Calendar 2.0//EN
METHOD:PUBLISH
X-PUBLISHED-TTL:P3D
REFRESH-INTERVAL:P3D
CALSCALE:GREGORIAN
BEGIN:VEVENT
DTSTART:20200819T160000Z
DTEND:20200819T164500Z
X-MICROSOFT-CDO-ALLDAYEVENT:FALSE
SUMMARY:Excellence in Education planning meeting
DESCRIPTION:Please join us for a quick Excellence in Education planning committee meeting as we discuss our options for the previously rescheduled luncheon event on September 10. \n\n\n\nBased on current (and projected) public health orders\, we see it being very difficult to conduct an in-person luncheon of this size on September 10. Unfortunately\, our 60-person outdoor business after hours event last week was reported to the Alabama Department of Public Health\, and we were reminded by ADPH that the CDC recommendation is no meetings larger than 25 people. \n\n\n\nWe hope to discuss either creating a top-quality virtual event\, or rescheduling again. \n\n\n\nWe will try our best to wrap up this call within a 30-45 minute time frame\, as this will be the only topic needed for discussion. It's critical to have your feedback to help guide us in these decisions.\n\n\n\nThank you so much!
X-ALT-DESC;FMTTYPE=text/html:Please join us for a quick Excellence in Education planning committee meeting as we discuss our options for the previously rescheduled luncheon event on September 10.&nbsp\;<br />\n<br />\nBased on current (and projected) public health orders\, we see it being very difficult to conduct an in-person luncheon of this size on September 10. Unfortunately\, our 60-person outdoor business after hours event last week was reported to the Alabama Department of Public Health\, and we were reminded by ADPH that the CDC recommendation is no meetings larger than 25 people.&nbsp\;<br />\n<br />\nWe hope to discuss either creating a top-quality virtual event\, or rescheduling again.&nbsp\;<br />\n<br />\nWe will try our best to wrap up this call within a 30-45 minute time frame\, as this will be the only topic needed for discussion. It&#39\;s critical to have your feedback to help guide us in these decisions.<br />\n<br />\nThank you so much!&nbsp\;
LOCATION:Heather New is inviting you to a scheduled Zoom meeting. Topic: Excellence in Education Planning Meeting Time: Aug 19\, 2020 11:00 AM Central Time (US and Canada) Join Zoom Meeting https://us02web.zoom.us/j/86477510743?pwd=U21kOS9qMmlUUHRGcGJPcWF2S1pNQT09 Meeting ID: 864 7751 0743 Passcode: ExcInEd
UID:e.1432.403277
SEQUENCE:3
DTSTAMP:20260419T160024Z
URL:http://business.etowahchamber.org/events/details/excellence-in-education-planning-meeting-403277
END:VEVENT

END:VCALENDAR
