BEGIN:VCALENDAR
VERSION:2.0
PRODID:-//ChamberMaster//Event Calendar 2.0//EN
METHOD:PUBLISH
X-PUBLISHED-TTL:P3D
REFRESH-INTERVAL:P3D
CALSCALE:GREGORIAN
BEGIN:VEVENT
DTSTART:20150122T133000Z
DTEND:20150122T143000Z
X-MICROSOFT-CDO-ALLDAYEVENT:FALSE
SUMMARY:Executive Committee Meeting
DESCRIPTION:2015-01 Agenda - Executive Committee\n\n2014-12 Minutes\n\n2015-01 Activity Report\n\n2014-12 Balance Sheet\n\n2014-12 Budget vs Actual\n\n2014-12 Profit and Loss by Class\n\n2014-12 Profit and Loss by Month\n\n\n\nExecutive Committee Meeting\n\nThursday\, January 22\, 2015\n\n7:30 a.m. - 8:30 a.m.\n\nChamber Gregerson Room\n\nOne Commerce Square\n\nGadsden\, AL 35901
X-ALT-DESC;FMTTYPE=text/html:<a href="http://cloud.chambermaster.com/userfiles/UserFiles/chambers/1432/File/201501_Board_Meeting/2015-01Agenda-ExecutiveCommitte.docx">2015-01 Agenda - Executive Committee</a><br />\n<a href="http://cloud.chambermaster.com/userfiles/UserFiles/chambers/1432/File/201501_Board_Meeting/2014-12Minutes-BoardMeeting.pdf">2014-12 Minutes</a><br />\n<a href="http://cloud.chambermaster.com/userfiles/UserFiles/chambers/1432/File/201501_Board_Meeting/2015-01ActivityReport.docx">2015-01 Activity Report</a><br />\n<a href="http://cloud.chambermaster.com/userfiles/UserFiles/chambers/1432/File/201501_Board_Meeting/20141231BalSheet.pdf">2014-12 Balance Sheet</a><br />\n<a href="http://cloud.chambermaster.com/userfiles/UserFiles/chambers/1432/File/201501_Board_Meeting/20141231BudgetVsActual.pdf">2014-12 Budget vs Actual</a><br />\n<a href="http://cloud.chambermaster.com/userfiles/UserFiles/chambers/1432/File/201501_Board_Meeting/20141231ProfitAndLossByClass.pdf">2014-12 Profit and Loss by Class</a><br />\n<a href="http://cloud.chambermaster.com/userfiles/UserFiles/chambers/1432/File/201501_Board_Meeting/20141231ProfitAndLossByMonth.pdf">2014-12 Profit and Loss by Month</a><br />\n<br />\nExecutive Committee Meeting<br />\nThursday\, January 22\, 2015<br />\n7:30 a.m. - 8:30 a.m.<br />\nChamber Gregerson Room<br />\nOne Commerce Square<br />\nGadsden\, AL 35901<br />\n<br />\n<br />\n&nbsp\;
LOCATION:Chamber Gregerson Room One Commerce Square Gadsden\, AL 35901
UID:e.1432.385442
SEQUENCE:3
DTSTAMP:20260422T092829Z
URL:http://business.etowahchamber.org/events/details/executive-committee-meeting-01-22-2015-385442
END:VEVENT

END:VCALENDAR
