BEGIN:VCALENDAR
VERSION:2.0
PRODID:-//ChamberMaster//Event Calendar 2.0//EN
METHOD:PUBLISH
X-PUBLISHED-TTL:P3D
REFRESH-INTERVAL:P3D
CALSCALE:GREGORIAN
BEGIN:VEVENT
DTSTART:20190807T203000Z
DTEND:20190807T213000Z
X-MICROSOFT-CDO-ALLDAYEVENT:FALSE
SUMMARY:Existing Business Growth and Retention Task Team Meeting
DESCRIPTION:Meeting for the Existing Business Growth and Retention task team\, a part of the Partnering for Prosperity strategic plan led by Task Team Chair\, Tony Smith of Alabama Power Company. We look forward to seeing you there!
X-ALT-DESC;FMTTYPE=text/html:<table border="0" cellpadding="0" cellspacing="0" class="txtNormal" style="border-width: 0px\; border-style: initial\; border-color: initial\; border-collapse: collapse\; font-family: Roboto\, sans-serif\;" width="265">\n	<tbody style="border-color: rgb(133\, 133\, 133)\;">\n		<tr>\n			<td align="right" valign="top" width="60"><font class="SmallText"><b>&nbsp\;</b></font></td>\n			<td><font class="SmallText">Meeting for the Existing Business Growth and Retention task team\, a part of the Partnering for Prosperity strategic plan led by Task Team Chair\, Tony Smith of Alabama Power Company. We look forward to seeing you there!</font></td>\n		</tr>\n	</tbody>\n</table>\n
LOCATION:The Chamber Board Room
UID:e.1432.401324
SEQUENCE:3
DTSTAMP:20260422T053223Z
URL:http://business.etowahchamber.org/events/details/existing-business-growth-and-retention-task-team-meeting-401324
END:VEVENT

END:VCALENDAR
