BEGIN:VCALENDAR
VERSION:2.0
PRODID:-//ChamberMaster//Event Calendar 2.0//EN
METHOD:PUBLISH
X-PUBLISHED-TTL:P3D
REFRESH-INTERVAL:P3D
CALSCALE:GREGORIAN
BEGIN:VEVENT
DTSTART:20200219T160000Z
DTEND:20200219T170000Z
X-MICROSOFT-CDO-ALLDAYEVENT:FALSE
SUMMARY:Existing Business Growth and Retention Task Team Meeting
DESCRIPTION:Join us for a meeting of the Existing Business Growth & Retention Task Team!
X-ALT-DESC;FMTTYPE=text/html:Join us for a meeting of the Existing Business Growth &amp\; Retention Task Team!
LOCATION:The Chamber Board Room
UID:e.1432.402700
SEQUENCE:3
DTSTAMP:20260420T024540Z
URL:http://business.etowahchamber.org/events/details/existing-business-growth-and-retention-task-team-meeting-402700
END:VEVENT

END:VCALENDAR
