BEGIN:VCALENDAR
VERSION:2.0
PRODID:-//ChamberMaster//Event Calendar 2.0//EN
METHOD:PUBLISH
X-PUBLISHED-TTL:P3D
REFRESH-INTERVAL:P3D
CALSCALE:GREGORIAN
BEGIN:VEVENT
DTSTART:20140412T190000Z
DTEND:20140412T210000Z
X-MICROSOFT-CDO-ALLDAYEVENT:FALSE
SUMMARY:Fairy Gardening 101
DESCRIPTION:Join us at FLD Garden Shop on Saturday\, April 12 and learn how to make your very own miniature fairy garden! Class begins at 2PM. It's fun for adults and children!\n\n\n\n$40 class fee includes your planter box and saucer\, three fairy flowers\, one fairy accessory\, and some creative natural decorations to get your garden off to a good start.\n\n\n\nRegister online at www.fldgardens.com/fairy101 or call us at (256) 442-1060 to reserve your seat. Hurry\, space is limited!
X-ALT-DESC;FMTTYPE=text/html:<span style="color: rgb(0\, 0\, 0)\; font-family: 'Lucida Grande'\, 'Lucida Sans Unicode'\, Arial\, sans-serif\; font-size: 13px\; line-height: 22px\;"><span style="background-color:#ffffff\;">Join us at FLD Garden Shop on Saturday\, April 12 and learn how to make your very own miniature fairy garden! Class begins at 2PM. It&rsquo\;s fun for adults and children!</span></span><br />\n<br />\n<span style="color: rgb(0\, 0\, 0)\; font-family: 'Lucida Grande'\, 'Lucida Sans Unicode'\, Arial\, sans-serif\; font-size: 13px\; line-height: 22px\;">$40 class fee includes your planter box and saucer\, three fairy flowers\, one fairy accessory\, and some creative natural decorations to get your garden off to a good start.</span><br />\n<br />\n<span style="color: rgb(0\, 0\, 0)\; font-family: 'Lucida Grande'\, 'Lucida Sans Unicode'\, Arial\, sans-serif\; font-size: 13px\; line-height: 22px\;"><span style="background-color:#ffffff\;">Register online at www.fldgardens.com/fairy101 or call us at (256) 442-1060&nbsp\;to reserve your seat. Hurry\, space is limited!</span></span>
LOCATION:FLD Garden Shop 2290 Cedar Bend Rd N\, Southside\, AL 35907
UID:e.1432.384428
SEQUENCE:3
DTSTAMP:20260422T211010Z
URL:http://business.etowahchamber.org/events/details/fairy-gardening-101-04-12-2014-384428
END:VEVENT

END:VCALENDAR
