BEGIN:VCALENDAR
VERSION:2.0
PRODID:-//ChamberMaster//Event Calendar 2.0//EN
METHOD:PUBLISH
X-PUBLISHED-TTL:P3D
REFRESH-INTERVAL:P3D
CALSCALE:GREGORIAN
BEGIN:VEVENT
DTSTART:20140517T150000Z
DTEND:20140517T170000Z
X-MICROSOFT-CDO-ALLDAYEVENT:FALSE
SUMMARY:Fairy Gardening with Friends AND Fairy Nests for Kids
DESCRIPTION:Put on your party hat...and your gardening gloves. FLD Garden Shop is offering a hands-on class to help you create your very own fairy garden. Have fun\, enjoy some snacks\, and share ideas with your classmates as you build creative habitats for those playful\, mischievous little sprites.\n\n\n\nMeanwhile\, the kids can enjoy their own class making a nest garden for your fairies to rest in!\n\n\n\nThe adult class is $40 and includes your planter box\, soil\, three fairy flowers\, one fairy accessory\, and some creative natural decorations as well. The kid's class is $25 and includes everything they need to make their fairy nest. Register for both classes at fldgardens.com/fairyfriends. Hurry\, space is limited!\n\n\n\nFYI\, if you already have a fairy garden and would like to come have some fun with us and develop your garden further\, feel free to come! There's no need to pay the class fee\, just buy whatever you'd like to add to your garden.
X-ALT-DESC;FMTTYPE=text/html:<span style="font-size:14px\;"><span style="font-family:arial\,helvetica\,sans-serif\;">Put on your party hat...and your gardening gloves. FLD Garden Shop is offering a hands-on class to help you create your very own fairy garden. Have fun\, enjoy some snacks\, and share ideas with your classmates as you build creative habitats for those playful\, mischievous little sprites.<br />\n<br />\nMeanwhile\, the kids can enjoy their own class making a nest garden for your fairies to rest in!</span><br />\n<br />\n<span style="font-family:arial\,helvetica\,sans-serif\;">The adult class is $40 and includes your planter box\, soil\, three fairy flowers\, one fairy accessory\, and some creative natural decorations as well. The kid&rsquo\;s class is $25 and includes everything they need to make their fairy nest. Register for both classes at fldgardens.com/fairyfriends. Hurry\, space is limited!<br />\n<br />\nFYI\, if you already have a fairy garden and would like to come have some fun with us and develop your garden further\, feel free to come! There&#39\;s no need to pay the class fee\, just buy whatever you&#39\;d like to add to your garden.</span></span><br />\n&nbsp\;
LOCATION:FLD Garden Shop\, 2290 Cedar Bend Rd N\, Southside\, AL 35907
UID:e.1432.384607
SEQUENCE:3
DTSTAMP:20260422T195600Z
URL:http://business.etowahchamber.org/events/details/fairy-gardening-with-friends-and-fairy-nests-for-kids-05-17-2014-384607
END:VEVENT

END:VCALENDAR
