BEGIN:VCALENDAR
VERSION:2.0
PRODID:-//ChamberMaster//Event Calendar 2.0//EN
METHOD:PUBLISH
X-PUBLISHED-TTL:P3D
REFRESH-INTERVAL:P3D
CALSCALE:GREGORIAN
BEGIN:VEVENT
DTSTART:20180920T180000Z
DTEND:20180920T220000Z
X-MICROSOFT-CDO-ALLDAYEVENT:FALSE
SUMMARY:Fall ALL Majors Career\, Co-Op & Internship Fair
DESCRIPTION:The Fall 2018 Career Co-Op & Internship Fair will give JSU students\, alumni\, and employers the chance to engage with one another\, establish professional relationships\, and discuss potential job\, co-op\, or internship opportunities. Employers and recruiters wishing to register may go to http://www.jsu.edu/careerservices/events/index.html.
X-ALT-DESC;FMTTYPE=text/html:The Fall 2018 Career Co-Op &amp\; Internship Fair will give JSU students\, alumni\, and employers the chance to engage with one another\, establish professional relationships\, and discuss potential job\, co-op\, or internship opportunities. Employers and recruiters wishing to register may go to http://www.jsu.edu/careerservices/events/index.html.
LOCATION:Stephenson Gym @ JSU
UID:e.1432.398034
SEQUENCE:3
DTSTAMP:20260422T192506Z
URL:http://business.etowahchamber.org/events/details/fall-all-majors-career-co-op-internship-fair-398034
END:VEVENT

END:VCALENDAR
