BEGIN:VCALENDAR
VERSION:2.0
PRODID:-//ChamberMaster//Event Calendar 2.0//EN
METHOD:PUBLISH
X-PUBLISHED-TTL:P3D
REFRESH-INTERVAL:P3D
CALSCALE:GREGORIAN
BEGIN:VEVENT
DTSTART:20121010T140000Z
DTEND:20121010T163000Z
X-MICROSOFT-CDO-ALLDAYEVENT:FALSE
SUMMARY:Fall Employment Opportunity Fair
DESCRIPTION:The office of Career Services at Gadsden State Community College will host a Fall Employment Opportunity Fair at the Ayers Campus Learning Resource Center in Anniston from 9am - 11:30am.  All students and the general public are welcome to attend at no cost.  Please dress professionally and bring several copies of your resume.  Recruiters or employers interested in registering for hte event should contact Cynthia Foster at 256-549-8635 or cfoster@gadsdenstate.edu or careerservices@gadsdenstate.edu
X-ALT-DESC;FMTTYPE=text/html:The office of Career Services at Gadsden State Community College will host a Fall Employment Opportunity Fair at the Ayers Campus Learning Resource Center in Anniston from 9am - 11:30am. &nbsp\;All students and the general public are welcome to attend at no cost. &nbsp\;Please dress professionally and bring several copies of your resume. &nbsp\;Recruiters or employers interested in registering for hte event should contact Cynthia Foster at 256-549-8635 or cfoster@gadsdenstate.edu or careerservices@gadsdenstate.edu
LOCATION:Ayers Campus Learning Resource Center
UID:e.1432.382766
SEQUENCE:3
DTSTAMP:20260423T003824Z
URL:http://business.etowahchamber.org/events/details/fall-employment-opportunity-fair-10-10-2012-382766
END:VEVENT

END:VCALENDAR
