BEGIN:VCALENDAR
VERSION:2.0
PRODID:-//ChamberMaster//Event Calendar 2.0//EN
METHOD:PUBLISH
X-PUBLISHED-TTL:P3D
REFRESH-INTERVAL:P3D
CALSCALE:GREGORIAN
BEGIN:VEVENT
DTSTART:20140917T150000Z
DTEND:20140917T170000Z
X-MICROSOFT-CDO-ALLDAYEVENT:FALSE
SUMMARY:Fall Festival Health Fair
DESCRIPTION:Put on your country best and join us for some free fall fun at Carnes Recreation in Attalla. We will have vendors\, food\, games and entertainment.
X-ALT-DESC;FMTTYPE=text/html:<p>Put on your country best and join us for some free fall fun at Carnes Recreation in Attalla. We will have vendors\, food\, games and entertainment.&nbsp\;</p>\n
LOCATION:Carnes Recreation Center 102 Case Ave SE Attalla\, AL
UID:e.1432.384929
SEQUENCE:3
DTSTAMP:20260422T143959Z
URL:http://business.etowahchamber.org/events/details/fall-festival-health-fair-09-17-2014-384929
END:VEVENT

END:VCALENDAR
