BEGIN:VCALENDAR
VERSION:2.0
PRODID:-//ChamberMaster//Event Calendar 2.0//EN
METHOD:PUBLISH
X-PUBLISHED-TTL:P3D
REFRESH-INTERVAL:P3D
CALSCALE:GREGORIAN
BEGIN:VEVENT
DTSTART:20120919T170000Z
DTEND:20120919T210000Z
X-MICROSOFT-CDO-ALLDAYEVENT:FALSE
SUMMARY:Family Savings Credit Union Golf Tournament
DESCRIPTION:Family Savings Credit Union\n\n13th Annual CV Glassco Memorial Golf Tournament\n\nAll proceeds benefit the CV Glassco Memorial Scholarship Fund\n\nWednesday\, September 19th\n\nRiver Trace Golf Club\n\nEast Meighan Blvd\, Gadsden\, AL\n\n4 person Scramble\n\nLunch and registration at noon\n\nTee off at 1 p.m.\n\n\n\nTeam Awards\n\nFirst Place - $400\n\n2nd Place - $300\n\n3rd Place - $200\n\n\n\nHole in One $5000 Cash prize sponsored by Family Savings\n\n\n\nPutting Contest - Chance to win $2\,500\n\n\n\nIndividual prizes for longest drive\, closest to the hole and door prizes\n\n\n\nFor more information contact Lesli Bishop at 256-469-5773 or 888-311-3728\, extension 5773\n\n\n\nDeadline for entry is September 14th!\n\n\n\nSponsor a hole only at $150\n\nSponsor players at $50 each\n\nSponsor a 4-person team and hole for $350\n\nCorporate sponsorship: $500 - includes tee box sign\, name/logo on sponsorship banner\, you may also offer an activity at your sponsored hole)
X-ALT-DESC;FMTTYPE=text/html:Family Savings Credit Union<br />\n13th Annual CV Glassco Memorial Golf Tournament<br />\nAll proceeds benefit the CV Glassco Memorial Scholarship Fund<br />\nWednesday\, September 19th<br />\nRiver Trace Golf Club<br />\nEast Meighan Blvd\, Gadsden\, AL<br />\n4 person Scramble<br />\nLunch and registration at noon<br />\nTee off at 1 p.m.<br />\n<br />\nTeam Awards<br />\nFirst Place - $400<br />\n2nd Place - $300<br />\n3rd Place - $200<br />\n<br />\nHole in One $5000 Cash prize sponsored by Family Savings<br />\n<br />\nPutting Contest - Chance to win $2\,500<br />\n<br />\nIndividual prizes for longest drive\, closest to the hole and door prizes<br />\n<br />\nFor more information contact Lesli Bishop at 256-469-5773 or 888-311-3728\, extension 5773<br />\n<br />\nDeadline for entry is September 14th!<br />\n<br />\nSponsor a hole only at $150<br />\nSponsor players at $50 each<br />\nSponsor a 4-person team and hole for $350<br />\nCorporate sponsorship: $500 - includes tee box sign\, name/logo on sponsorship banner\, you may also offer an activity at your sponsored hole)
LOCATION:River Trace Golf Club East Meighan Blvd\, Gadsden\, AL
UID:e.1432.382749
SEQUENCE:3
DTSTAMP:20260422T232043Z
URL:http://business.etowahchamber.org/events/details/family-savings-credit-union-golf-tournament-09-19-2012-382749
END:VEVENT

END:VCALENDAR
