BEGIN:VCALENDAR
VERSION:2.0
PRODID:-//ChamberMaster//Event Calendar 2.0//EN
METHOD:PUBLISH
X-PUBLISHED-TTL:P3D
REFRESH-INTERVAL:P3D
CALSCALE:GREGORIAN
BEGIN:VEVENT
DTSTART;VALUE=DATE:20120615
DTEND;VALUE=DATE:20120617
TRANSP:TRANSPARENT
X-MICROSOFT-CDO-ALLDAYEVENT:TRUE
SUMMARY:Fathers Day Sale
DESCRIPTION:Not Another Father's Day Tie! Get Dad What He Really Wants!\n\n	June 15th and 16th Only!!!\n\n	PAY A MONTH GET A MONTH FREE ONLY AT AARON'S!!!!!\n\n	  NOBODY BEATS AARONS! NOBODY!
X-ALT-DESC;FMTTYPE=text/html:<h3 style="text-align: center\; color: blue">\n	<span style="background-color: #0000ff"><span style="color: #ffffff"><strong><span style="font-family: times new roman"><span style="font-size: 12px"><span style="font-size: 16px">Not Another Father&#39\;s Day Tie! Get Dad What He Really Wants!</span></span></span></strong></span></span></h3>\n<h3 style="text-align: center\; color: blue">\n	<span style="background-color: #0000ff"><span style="color: #ffffff"><span style="font-family: comic sans ms"><span style="font-size: 14px">June 15th and 16th Only!!!</span></span></span></span></h3>\n<h3 style="text-align: center\; color: blue">\n	<span style="font-family: comic sans ms"><span style="font-size: 14px"><span style="background-color: #0000ff"><span style="color: #ffffff"><span style="font-family: tahoma">PAY A MONTH GET A MONTH FREE ONLY AT AARON&#39\;S!!!!!</span></span></span></span></span></h3>\n<h3 style="text-align: center\; color: blue">\n	&nbsp\; <span style="background-color: #0000ff"><span style="color: #ffffff"><strong><em><span style="font-family: verdana"><span style="font-size: 20px">NOBODY BEATS AARONS! NOBODY!</span></span></em></strong></span></span></h3>\n<br />\n
LOCATION:GADSDEN\, ALABAMA
UID:e.1432.381523
SEQUENCE:3
DTSTAMP:20260422T192801Z
URL:http://business.etowahchamber.org/events/details/fathers-day-sale-06-15-2012-381523
END:VEVENT

END:VCALENDAR
