BEGIN:VCALENDAR
VERSION:2.0
PRODID:-//ChamberMaster//Event Calendar 2.0//EN
METHOD:PUBLISH
X-PUBLISHED-TTL:P3D
REFRESH-INTERVAL:P3D
CALSCALE:GREGORIAN
BEGIN:VEVENT
DTSTART:20181220T200000Z
DTEND:20181221T000000Z
X-MICROSOFT-CDO-ALLDAYEVENT:FALSE
SUMMARY:Feed the Need 2018
DESCRIPTION:The 2018 Feed the Need Food Giveaway will be Thursday\, December 20th at Back Forty Beer Co.\, 200 N. Sixth St.\, Gadsden. Food will be given to those in need\, based on the honor system.\n\n\n\nSign up begins at 2 P.M. and pick up will be held at 5 P.M.
X-ALT-DESC;FMTTYPE=text/html:<span style="font-size:16px\;"><span style="font-family:arial\;">The 2018 Feed the Need Food Giveaway will be Thursday\, December 20th at Back Forty Beer Co.\, 200 N. Sixth St.\, Gadsden. Food&nbsp\;will be given to those in need\, based on the honor system.<br />\n<br />\n<strong>Sign up begins at 2 P.M. and pick up will be held at 5 P.M.</strong></span></span>
LOCATION:Back Forty Beer Company 200 North 6th Street Gadsden\, AL 35901
UID:e.1432.398652
SEQUENCE:3
DTSTAMP:20260422T155229Z
URL:http://business.etowahchamber.org/events/details/feed-the-need-2018-398652
END:VEVENT

END:VCALENDAR
